BEGIN:VCALENDAR
PRODID:-//Microsoft Corporation//Outlook 11.0 MIMEDIR//EN
VERSION:2.0
BEGIN:VEVENT
SUMMARY:24th Annual French Creek Iron Tour
DESCRIPTION:Join us for the 24th Annual French Creek Iron Tour on June 14, 2026 Devault, Pa., April 23, 2026 – The French Creek Iron Tour is scheduled to return for its 24th year on Sunday, June 14. Cyclists will ride through the scenic countryside their participation is helping to protect and restore. All proceeds support ... View Article
DTSTART:20260614T064500
DTEND:20260614T000000
DTSTAMP:20260614T064500Z
URL;VALUE=URI:https://phoenixvillechamber.org/news-events/events/24th-annual-french-creek-iron-tour/
END:VEVENT
END:VCALENDAR