BEGIN:VCALENDAR
PRODID:-//Microsoft Corporation//Outlook 11.0 MIMEDIR//EN
VERSION:2.0
BEGIN:VEVENT
SUMMARY:Brunch &#038; Learn – Municipal Update with Jean Krack
DESCRIPTION:Brunch &amp; Learn – Municipal Update with Jean Krack Join us for a special meeting hosted by the Phoenixville Regional Chamber of Commerce in collaboration with the Phoenixville Borough to learn about recent wins and what is on the horizon for the Borough. Light fare of coffee &amp; pastries will be provided.&nbsp; What You’ll Learn: ... View Article
DTSTART:20260528T100000
DTEND:20260528T113000
DTSTAMP:20260528T100000Z
URL;VALUE=URI:https://phoenixvillechamber.org/news-events/events/brunch-learn-municipal-update-with-jean-krack-2/
END:VEVENT
END:VCALENDAR