BEGIN:VCALENDAR
PRODID:-//Microsoft Corporation//Outlook 11.0 MIMEDIR//EN
VERSION:2.0
BEGIN:VEVENT
SUMMARY:Climate Future Film Festival
DESCRIPTION:In observance of Earth Day, Phoenixville Public Library will host the Climate Future Film Festival on Monday, April 20, beginning at 5:30 PM at the Library. The event features screenings of ten award-winning short films from four continents that explore the human and artistic response to climate change. Genres include drama, documentary, dark comedy, and ... View Article
DTSTART:20260420T173000
DTEND:20260420T000000
DTSTAMP:20260420T173000Z
URL;VALUE=URI:https://phoenixvillechamber.org/news-events/events/climate-future-film-festival/
END:VEVENT
END:VCALENDAR