BEGIN:VCALENDAR
PRODID:-//Microsoft Corporation//Outlook 11.0 MIMEDIR//EN
VERSION:2.0
BEGIN:VEVENT
SUMMARY:The Greg Farnese Trio @ Steel City
DESCRIPTION:Greg Farnese is one of busiest male jazz vocalists in the area, singing the truly timeless music of the Great American Songbook as well as original jazz arrangements of more current artists. A South Jersey native, Greg began his career in acting, and moved to Hollywood, California where he worked in theater, television and in ... View Article
DTSTART:20170609T200000
DTEND:20170609T000000
DTSTAMP:20170609T200000Z
URL;VALUE=URI:https://phoenixvillechamber.org/news-events/events/greg-farnese-trio-steel-city/
END:VEVENT
END:VCALENDAR