BEGIN:VCALENDAR
PRODID:-//Microsoft Corporation//Outlook 11.0 MIMEDIR//EN
VERSION:2.0
BEGIN:VEVENT
SUMMARY:Lunch &#038; Learn: The 5 Things Every Business Owner Should Know About Their Brand
DESCRIPTION:This session with Koree Ritter Consulting will walk through the core strategic elements that shape a strong brand: who you are, what you do, who you serve, why it matters, and what makes your business different. When those things are clear, it becomes much easier to create consistent marketing, stronger messaging, and a brand identity ... View Article
DTSTART:20260610T113000
DTEND:20260610T130000
DTSTAMP:20260610T113000Z
URL;VALUE=URI:https://phoenixvillechamber.org/news-events/events/lunch-and-learn-5-things-every-business-owner-should-know/
END:VEVENT
END:VCALENDAR