BEGIN:VCALENDAR
PRODID:-//Microsoft Corporation//Outlook 11.0 MIMEDIR//EN
VERSION:2.0
BEGIN:VEVENT
SUMMARY:Making Waves: Young Professionals Happy Hour &#8211; SUMMER EDITION
DESCRIPTION:Making Waves: Young Professionals Happy Hour 🌊 June 4th, 5:30pm &#8211; 7:00pm | Phoenixville Chamber Office, 710 Main St., Phoenixville, PA 19460 Be part of something new in Phoenixville! The Phoenixville Regional Chamber of Commerce is excited to launch NextWave Young Professionals, a program designed to connect and empower the next generation of local leaders. ... View Article
DTSTART:20260604T173000
DTEND:20260604T190000
DTSTAMP:20260604T173000Z
URL;VALUE=URI:https://phoenixvillechamber.org/news-events/events/making-waves-young-professionals-happy-hour-summer-edition/
END:VEVENT
END:VCALENDAR