BEGIN:VCALENDAR
PRODID:-//Microsoft Corporation//Outlook 11.0 MIMEDIR//EN
VERSION:2.0
BEGIN:VEVENT
SUMMARY:Overlooked and Undercounted: Struggling to Make Ends Meet in PA
DESCRIPTION:About this Event Join CCFWG and PathWays PA for a virtual dive into the latest Self-Sufficiency Standard for Pennsylvania, a report that includes data on Chester County households overlooked and undercounted in the federal poverty level. The presentation will also discuss how COVID-19 has made the climb toward economic advancement even more difficult for local ... View Article
DTSTART:20200818T090000
DTEND:20200818T000000
DTSTAMP:20200818T090000Z
URL;VALUE=URI:https://phoenixvillechamber.org/news-events/events/overlooked-and-undercounted-struggling-to-make-ends-meet-in-pa/
END:VEVENT
END:VCALENDAR